BEGIN:VCALENDAR
VERSION:2.0
PRODID:-//Indiana-Bogenbau - ECPv4.6.8//NONSGML v1.0//EN
CALSCALE:GREGORIAN
METHOD:PUBLISH
X-WR-CALNAME:Indiana-Bogenbau
X-ORIGINAL-URL:http://www.martinworf-bogenbau.de
X-WR-CALDESC:Events for Indiana-Bogenbau
BEGIN:VEVENT
DTSTART;VALUE=DATE:20220916
DTEND;VALUE=DATE:20220919
DTSTAMP:20260423T192451
CREATED:20210607T075345Z
LAST-MODIFIED:20220710T113850Z
UID:1365-1663286400-1663545599@www.martinworf-bogenbau.de
SUMMARY:Bogenbaukurs 9/22 fÃ¼r AnfÃ¤nger und Fortgeschrittene
DESCRIPTION:Dieser Kurs ist geeignet fÃ¼r Beginner und Fortgeschrittene\, die ein bestimmtes Projekt realisieren wollen. \nWer mÃ¶chte\, kann seinen eigenen Rohling mitbringen oder auch einen angefangenen Bogen. Das Projekt wird dann besprochen und die MÃ¶glichkeiten zur Realisierung ausgelotet. \nDabei erfÃ¤hrst du jede Menge Ã¼ber Holzmerkmale und Bearbeitung. \nDer Kurs eignet sich auch fÃ¼r ein Eltern &#8211; Kind &#8211; Projekt. \nDie Buchung wird mit Eingang der GebÃ¼hr wirksam. \nBezÃ¼glich Verpflegung und Unterkunft bitte anfragen! \n  \n
URL:http://www.martinworf-bogenbau.de/event/bogenbaukurs-9-22-fuer-anfaenger-und-fortgeschrittene/
LOCATION:Ratzenburg 2\, Unterwaldhausen\, Baden-WÃ¼rttemberg\, D-88379 \, Deutschland
CATEGORIES:Bogenbaukurse
ATTACH;FMTTYPE=image/jpeg:http://www.martinworf-bogenbau.de/wp-content/uploads/2017/06/P1700819-e1518552867425.jpg
ORGANIZER;CN="INDIANA%20Bogenbau%2C%20Martin%20Worf":MAILTO:kontakt@indiana-bogenbau.de
END:VEVENT
END:VCALENDAR