BEGIN:VCALENDAR
VERSION:2.0
PRODID:-//Indiana-Bogenbau - ECPv4.6.8//NONSGML v1.0//EN
CALSCALE:GREGORIAN
METHOD:PUBLISH
X-WR-CALNAME:Indiana-Bogenbau
X-ORIGINAL-URL:http://www.martinworf-bogenbau.de
X-WR-CALDESC:Events for Indiana-Bogenbau
BEGIN:VEVENT
DTSTART;VALUE=DATE:20221001
DTEND;VALUE=DATE:20221004
DTSTAMP:20260423T175916
CREATED:20220710T114122Z
LAST-MODIFIED:20220710T114122Z
UID:1377-1664582400-1664841599@www.martinworf-bogenbau.de
SUMMARY:Bogenbaukurs 10/22
DESCRIPTION:Dieser Kurs ist geeignet fÃ¼r Beginner und Fortgeschrittene\, die ein bestimmtes Projekt realisieren wollen. \nWer mÃ¶chte\, kann seinen eigenen Rohling mitbringen oder auch einen angefangenen Bogen. Das Projekt wird dann besprochen und die MÃ¶glichkeiten zur Realisierung ausgelotet. \nDabei erfÃ¤hrst du jede Menge Ã¼ber Holzmerkmale und Bearbeitung. \nDer Kurs eignet sich auch fÃ¼r ein Eltern &#8211; Kind &#8211; Projekt. \nDie Buchung wird mit Eingang der GebÃ¼hr wirksam. \nBezÃ¼glich Verpflegung und Unterkunft bitte anfragen! \n  \n
URL:http://www.martinworf-bogenbau.de/event/bogenbaukurs-10-22-fuer-anfaenger-und-fortgeschrittene-2/
LOCATION:Ratzenburg 2\, Unterwaldhausen\, Baden-WÃ¼rttemberg\, D-88379 \, Deutschland
CATEGORIES:Bogenbaukurse
ATTACH;FMTTYPE=image/jpeg:http://www.martinworf-bogenbau.de/wp-content/uploads/2017/06/P1700819-e1518552867425.jpg
ORGANIZER;CN="INDIANA%20Bogenbau%2C%20Martin%20Worf":MAILTO:kontakt@indiana-bogenbau.de
END:VEVENT
END:VCALENDAR